{"text_format":"3","workbook":"xlsx","n_sheets":1,"sheets":["Лист1"],"not_rendered":{"external_links":1},"read":"whole","date_system":"1900"}

{"sheet":"Лист1","index":0,"n_rows":126,"n_cols":7,"rows_kept":126}
[]
[{"$nulls":4},"Утверждаю _____________"]
[{"$nulls":4},"Директор школы: Лукманова А.З."]
[]
[null,"                Десятидневное меню для обучающихся   5-9 классов (РП, ММС)"]
[]
[null,"Рацион: Школьное питание                                                                                                              День: понедельник"]
[null,"                                                                                                                                                        Неделя: 1"]
["№ рец.","Наименование блюда",null,"                  Пищевые вещества (г)                                          ",null,null,"Энер.цен"]
[1,2,3,4,5,6,7]
["Завтрак",null,"от 12 до 18 лет","Б","Ж","У"]
[{"$f":"[1]Sheet1!A8","v":{"v":137,"d":"137 "}},{"$f":"[1]Sheet1!B8","v":"Макаронные изделия отварные"},{"$f":"[1]Sheet1!D8","v":230},{"$f":"[1]Sheet1!E8","v":{"v":8.4,"d":"8.40"}},{"$f":"[1]Sheet1!F8","v":{"v":6.5,"d":"6.50"}},{"$f":"[1]Sheet1!G8","v":{"v":51.1,"d":"51.10"}},{"$f":"[1]Sheet1!H8","v":{"v":301,"d":"301.00"}}]
[{"$f":"[1]Sheet1!A9","v":{"v":268,"d":"268 "}},{"$f":"[1]Sheet1!B9","v":"Котлеты мясные говядина"},{"$f":"[1]Sheet1!D9","v":100},{"$f":"[1]Sheet1!E9","v":14.72},{"$f":"[1]Sheet1!F9","v":13.18},{"$f":"[1]Sheet1!G9","v":12.63},{"$f":"[1]Sheet1!H9","v":{"v":229,"d":"229.00"}}]
[{"$f":"[1]Sheet1!A10","v":{"v":184,"d":"184 "}},{"$f":"[1]Sheet1!B10","v":"Чай с сахаром"},{"$f":"[1]Sheet1!D10","v":200},{"$f":"[1]Sheet1!E10","v":{"v":0.2,"d":"0.20"}},{"$f":"[1]Sheet1!F10","v":{"v":0,"d":"0.00"}},{"$f":"[1]Sheet1!G10","v":{"v":13.7,"d":"13.70"}},{"$f":"[1]Sheet1!H10","v":{"v":53,"d":"53.00"}}]
[{"$f":"[1]Sheet1!A11","v":11},{"$f":"[1]Sheet1!B11","v":"Хлеб пшеничный "},{"$f":"[1]Sheet1!D11","v":50},{"$f":"[1]Sheet1!E11","v":3.35},{"$f":"[1]Sheet1!F11","v":0.35},{"$f":"[1]Sheet1!G11","v":25.13},{"$f":"[1]Sheet1!H11","v":{"v":120,"d":"120.00"}}]
["Итого за завтрак",null,580,26.67,20.03,102.56,703]
[]
[null,"Рацион: Школьное питание                                                                                                              День: вторник"]
[null,"                                                                                                                                                        Неделя: 1"]
["№ рец.","Наименование блюда",null,"                  Пищевые вещества (г)                                          ",null,null,"Энер.цен"]
[1,2,3,4,5,6,7]
["Завтрак",null,"от 12 до 18 лет","Б","Ж","У"]
[{"$f":"[1]Sheet1!A32","v":{"v":203,"d":"203 "}},{"$f":"[1]Sheet1!B32","v":"Каша молочная \"Дружба\""},{"$f":"[1]Sheet1!D32","v":230},{"$f":"[1]Sheet1!E32","v":{"v":7.1,"d":"7"}},{"$f":"[1]Sheet1!F32","v":{"v":9.8,"d":"10"}},{"$f":"[1]Sheet1!G32","v":{"v":37.3,"d":"37"}},{"$f":"[1]Sheet1!H32","v":267}]
[{"$f":"[1]Sheet1!A33","v":{"v":184,"d":"184 "}},{"$f":"[1]Sheet1!B33","v":"Чай с сахаром"},{"$f":"[1]Sheet1!D33","v":200},{"$f":"[1]Sheet1!E33","v":{"v":0.1,"d":"0.10"}},{"$f":"[1]Sheet1!F33","v":{"v":0,"d":"0.0"}},{"$f":"[1]Sheet1!G33","v":{"v":9.1,"d":"9.10"}},{"$f":"[1]Sheet1!H33","v":{"v":35,"d":"35.00"}}]
[{"$f":"[1]Sheet1!A34","v":2},{"$f":"[1]Sheet1!B34","v":"Бутерброд с маслом и сыром"},{"$f":"[1]Sheet1!D34","v":95},{"$f":"[1]Sheet1!E34","v":{"v":9.7,"d":"10"}},{"$f":"[1]Sheet1!F34","v":{"v":9.9,"d":"10"}},{"$f":"[1]Sheet1!G34","v":{"v":30.8,"d":"31"}},{"$f":"[1]Sheet1!H34","v":256}]
[847,{"$f":"[1]Sheet1!B35","v":"Плоды свежие "},{"$f":"[1]Sheet1!D35","v":100},{"$f":"[1]Sheet1!E35","v":{"v":1.51,"d":"2"}},{"$f":"[1]Sheet1!F35","v":{"v":0.51,"d":"1"}},{"$f":"[1]Sheet1!G35","v":21},{"$f":"[1]Sheet1!H35","v":96}]
["Итого за завтрак",null,625,19.1,21,98.1,654]
[]
[]
[null,"Рацион: Школьное питание                                                                                                              День: среда"]
[null,"                                                                                                                                                        Неделя: 1"]
["№ рец.","Наименование блюда",null,"                  Пищевые вещества (г)                                          ",null,null,"Энер.цен"]
[1,2,3,4,5,6,7]
["Завтрак",null,"от 12 до 18 лет","Б","Ж","У"]
[{"$f":"[1]Sheet1!A55","v":113},{"$f":"[1]Sheet1!B55","v":"Каша гречневая рассыпчатая"},{"$f":"[1]Sheet1!D55","v":220},{"$f":"[1]Sheet1!E55","v":12.7},{"$f":"[1]Sheet1!F55","v":8.3},{"$f":"[1]Sheet1!G55","v":55.4},{"$f":"[1]Sheet1!H55","v":422.4}]
[{"$f":"[1]Sheet1!A56","v":54},{"$f":"[1]Sheet1!B56","v":"Рыба, тушеная в томате с овощами"},{"$f":"[1]Sheet1!D56","v":100},{"$f":"[1]Sheet1!E56","v":14.4},{"$f":"[1]Sheet1!F56","v":6.8},{"$f":"[1]Sheet1!G56","v":3.3},{"$f":"[1]Sheet1!H56","v":131}]
[{"$f":"[1]Sheet1!A57","v":310},{"$f":"[1]Sheet1!B57","v":"Компот из смеси сухофруктов"},{"$f":"[1]Sheet1!D57","v":200},{"$f":"[1]Sheet1!E57","v":0.5},{"$f":"[1]Sheet1!F57","v":0.1},{"$f":"[1]Sheet1!G57","v":31.2},{"$f":"[1]Sheet1!H57","v":121}]
[{"$f":"[1]Sheet1!A58","v":{"v":11,"d":"11 "}},{"$f":"[1]Sheet1!B58","v":"Хлеб пшеничный "},{"$f":"[1]Sheet1!D58","v":40},{"$f":"[1]Sheet1!E58","v":2.68},{"$f":"[1]Sheet1!F58","v":0.28},{"$f":"[1]Sheet1!G58","v":20.12},{"$f":"[1]Sheet1!H58","v":96}]
["Итого за завтрак",null,560,30.28,15.48,110.02,770.4]
[]
[]
[]
[null,"Рацион: Школьное питание                                                                                                              День: четверг"]
[null,"                                                                                                                                                        Неделя: 1"]
["№ рец.","Наименование блюда",null,"                  Пищевые вещества (г)                                          ",null,null,"Энер.цен"]
[1,2,3,4,5,6,7]
["Завтрак",null,"от 12 до 18 лет","Б","Ж","У"]
[228,{"$f":"[1]Sheet1!B77","v":"Макаронные изделия с тертым сыром"},{"$f":"[1]Sheet1!D77","v":250},{"$f":"[1]Sheet1!E77","v":{"v":14.9,"d":"15"}},{"$f":"[1]Sheet1!F77","v":{"v":16.8,"d":"17"}},{"$f":"[1]Sheet1!G77","v":43},{"$f":"[1]Sheet1!H77","v":388}]
[{"$f":"[1]Sheet1!A78","v":264},{"$f":"[1]Sheet1!B78","v":"Какао с молоком"},{"$f":"[1]Sheet1!D78","v":200},{"$f":"[1]Sheet1!E78","v":{"v":3.6,"d":"4"}},{"$f":"[1]Sheet1!F78","v":{"v":3.6,"d":"4"}},{"$f":"[1]Sheet1!G78","v":{"v":22.8,"d":"23"}},{"$f":"[1]Sheet1!H78","v":135}]
[{"$f":"[1]Sheet1!A79","v":11},{"$f":"[1]Sheet1!B79","v":"Хлеб пшеничный "},{"$f":"[1]Sheet1!D79","v":40},{"$f":"[1]Sheet1!E79","v":{"v":2.68,"d":"3"}},{"$f":"[1]Sheet1!F79","v":{"v":0.28,"d":"0"}},{"$f":"[1]Sheet1!G79","v":{"v":20.12,"d":"20"}},{"$f":"[1]Sheet1!H79","v":96}]
[18,{"$f":"[1]Sheet1!B80","v":"Огурцы свежие в нарезке"},{"$f":"[1]Sheet1!D80","v":60},{"$f":"[1]Sheet1!E80","v":0.48},{"$f":"[1]Sheet1!F80","v":{"v":0.06,"d":"0.1"}},{"$f":"[1]Sheet1!G80","v":{"v":1.68,"d":"1.7"}},{"$f":"[1]Sheet1!H80","v":{"v":7.8,"d":"7.80"}}]
["Итого за завтрак",null,550,22.48,21.1,87.7,626.8]
[]
[]
[]
[null,"Рацион: Школьное питание                                                                                                              День: пятница"]
[null,"                                                                                                                                                        Неделя: 1"]
["№ рец.","Наименование блюда",null,"                  Пищевые вещества (г)                                          ",null,null,"Энер.цен"]
[1,2,3,4,5,6,7]
["Завтрак",null,"от 12 до 18 лет","Б","Ж","У"]
[{"$f":"[1]Sheet1!A101","v":10},{"$f":"[1]Sheet1!B101","v":"Салат из моркови"},{"$f":"[1]Sheet1!D101","v":100},{"$f":"[1]Sheet1!E101","v":1.1},{"$f":"[1]Sheet1!F101","v":4.5},{"$f":"[1]Sheet1!G101","v":14.5},{"$f":"[1]Sheet1!H101","v":100}]
[{"$f":"[1]Sheet1!A102","v":90},{"$f":"[1]Sheet1!B102","v":"Плов из мяса птицы"},{"$f":"[1]Sheet1!D102","v":220},{"$f":"[1]Sheet1!E102","v":30.6},{"$f":"[1]Sheet1!F102","v":24.44},{"$f":"[1]Sheet1!G102","v":27.92},{"$f":"[1]Sheet1!H102","v":517.05}]
[184,{"$f":"[1]Sheet1!B103","v":"Чай с сахаром"},{"$f":"[1]Sheet1!D103","v":200},{"$f":"[1]Sheet1!E103","v":0.1},{"$f":"[1]Sheet1!F103","v":0},{"$f":"[1]Sheet1!G103","v":9.1},{"$f":"[1]Sheet1!H103","v":35}]
[{"$f":"[1]Sheet1!A104","v":11},{"$f":"[1]Sheet1!B104","v":"Хлеб пшеничный "},{"$f":"[1]Sheet1!D104","v":40},{"$f":"[1]Sheet1!E104","v":2.68},{"$f":"[1]Sheet1!F104","v":0.28},{"$f":"[1]Sheet1!G104","v":20.12},{"$f":"[1]Sheet1!H104","v":96}]
["Итого за завтрак",null,560,34.48,29.22,71.64,748.05]
[]
[null,"Рацион: Школьное питание                                                                                                              День: понедельник"]
[null,"                                                                                                                                                        Неделя: 2"]
["№ рец.","Наименование блюда",null,"                  Пищевые вещества (г)                                          ",null,null,"Энер.цен"]
[1,2,3,4,5,6,7]
["Завтрак",null,"от 12 до 18 лет","Б","Ж","У"]
[{"$f":"[1]Sheet1!A124","v":{"v":118,"d":"118 "}},{"$f":"[1]Sheet1!B124","v":"Каша ячневая рассыпчатая"},{"$f":"[1]Sheet1!D124","v":230},{"$f":"[1]Sheet1!E124","v":7},{"$f":"[1]Sheet1!F124","v":6.9},{"$f":"[1]Sheet1!G124","v":40.2},{"$f":"[1]Sheet1!H124","v":255}]
[{"$f":"[1]Sheet1!A125","v":{"v":268,"d":"268 "}},{"$f":"[1]Sheet1!B125","v":"Биточки из мяса курицы"},{"$f":"[1]Sheet1!D125","v":100},{"$f":"[1]Sheet1!E125","v":12},{"$f":"[1]Sheet1!F125","v":13},{"$f":"[1]Sheet1!G125","v":13},{"$f":"[1]Sheet1!H125","v":199.6}]
[{"$f":"[1]Sheet1!A126","v":186},{"$f":"[1]Sheet1!B126","v":"Чай с лимоном и сахаром"},{"$f":"[1]Sheet1!D126","v":200},{"$f":"[1]Sheet1!E126","v":0.2},{"$f":"[1]Sheet1!F126","v":0.1},{"$f":"[1]Sheet1!G126","v":13.9},{"$f":"[1]Sheet1!H126","v":55}]
[{"$f":"[1]Sheet1!A127","v":{"v":11,"d":"11 "}},{"$f":"[1]Sheet1!B127","v":"Хлеб пшеничный "},{"$f":"[1]Sheet1!D127","v":40},{"$f":"[1]Sheet1!E127","v":2.68},{"$f":"[1]Sheet1!F127","v":0.28},{"$f":"[1]Sheet1!G127","v":20.12},{"$f":"[1]Sheet1!H127","v":96}]
["Итого за завтрак",null,570,21.88,20.28,87.22,605.6]
[]
[]
[]
[null,"Рацион: Школьное питание                                                                                                              День: вторник"]
[null,"                                                                                                                                                        Неделя: 2"]
["№ рец.","Наименование блюда",null,"                  Пищевые вещества (г)                                          ",null,null,"Энер.цен"]
[1,2,3,4,5,6,7]
["Завтрак",null,"от 12 до 18 лет","Б","Ж","У"]
[{"$f":"[1]Sheet1!A146","v":{"v":159,"d":"159 "}},"Картофель и овощи, тушеные в соусе",220,{"$f":"[1]Sheet1!E146","v":{"v":4.5,"d":"4.50"}},{"$f":"[1]Sheet1!F146","v":{"v":12.6,"d":"12.60"}},{"$f":"[1]Sheet1!G146","v":{"v":33.3,"d":"33.30"}},{"$f":"[1]Sheet1!H146","v":{"v":274,"d":"274.00"}}]
[{"v":184,"d":"184 "},"Чай с сахаром",200,{"$f":"[1]Sheet1!E147","v":{"v":3.6,"d":"3.60"}},{"$f":"[1]Sheet1!F147","v":{"v":3.6,"d":"3.60"}},{"$f":"[1]Sheet1!G147","v":{"v":22.8,"d":"22.80"}},{"$f":"[1]Sheet1!H147","v":{"v":135,"d":"135.00"}}]
[{"$f":"[1]Sheet1!A148","v":11},"Хлеб пшеничный ",40,{"$f":"[1]Sheet1!E148","v":2.68},{"$f":"[1]Sheet1!F148","v":0.28},{"$f":"[1]Sheet1!G148","v":20.12},{"$f":"[1]Sheet1!H148","v":{"v":96,"d":"96.00"}}]
[847,"Свежий фрукт ",100,0.4,0.4,9.8,47]
["Итого за завтрак",null,560,11.18,16.88,86.52,552]
[]
[null,"Рацион: Школьное питание                                                                                                              День: среда"]
[null,"                                                                                                                                                        Неделя: 2"]
["№ рец.","Наименование блюда",null,"                  Пищевые вещества (г)                                          ",null,null,"Энер.цен"]
[1,2,3,4,5,6,7]
["Завтрак",null,"от 12 до 18 лет","Б","Ж","У"]
[{"$f":"[1]Sheet1!A169","v":113},"Каша гречневая рассыпчатая",{"$f":"[1]Sheet1!D169","v":220},1.3,7.4,6,95]
[{"$f":"[1]Sheet1!A170","v":{"v":268,"d":"268 "}},"Котлеты мясные говядина",{"$f":"[1]Sheet1!D170","v":100},{"$f":"[1]Sheet1!E9","v":14.72},{"$f":"[1]Sheet1!F9","v":13.18},{"$f":"[1]Sheet1!G9","v":12.63},{"$f":"[1]Sheet1!H9","v":{"v":229,"d":"229.00"}}]
[{"v":200,"d":"200 "},"Кисель",{"$f":"[1]Sheet1!D171","v":200},{"$f":"[1]Sheet1!E64","v":0},{"$f":"[1]Sheet1!F64","v":0},{"$f":"[1]Sheet1!G64","v":10},{"$f":"[1]Sheet1!H64","v":119}]
[{"$f":"[1]Sheet1!A172","v":11},"Хлеб пшеничный ",{"$f":"[1]Sheet1!D172","v":40},0.1,0,9.1,35]
["Итого за завтрак",null,560,16.12,20.58,37.73,478]
[]
[null,"Рацион: Школьное питание                                                                                                              День: четверг"]
[null,"                                                                                                                                                        Неделя: 2"]
["№ рец.","Наименование блюда",null,"                  Пищевые вещества (г)                                          ",null,null,"Энер.цен"]
[1,2,3,4,5,6,7]
["Завтрак",null,"от 12 до 18 лет","Б","Ж","У"]
[{"$f":"[1]Sheet1!A192","v":185},{"$f":"[1]Sheet1!B192","v":"Каша пшеничная рассыпчатая"},{"$f":"[1]Sheet1!D192","v":230},{"$f":"[1]Sheet1!E192","v":10.2},{"$f":"[1]Sheet1!F192","v":6.3},{"$f":"[1]Sheet1!G192","v":60},{"$f":"[1]Sheet1!H192","v":326}]
[{"$f":"[1]Sheet1!A193","v":{"v":201,"d":"201 "}},{"$f":"[1]Sheet1!B193","v":"Гуляш \"Объедение\" из куриного филе"},{"$f":"[1]Sheet1!D193","v":100},{"$f":"[1]Sheet1!E193","v":16.57},{"$f":"[1]Sheet1!F193","v":4.3},{"$f":"[1]Sheet1!G193","v":4},{"$f":"[1]Sheet1!H193","v":190.8}]
[{"v":184,"d":"184 "},{"$f":"[1]Sheet1!B194","v":"Чай с сахаром"},{"$f":"[1]Sheet1!D194","v":200},{"$f":"[1]Sheet1!E194","v":0.1},{"$f":"[1]Sheet1!F194","v":0},{"$f":"[1]Sheet1!G194","v":9.1},{"$f":"[1]Sheet1!H194","v":35}]
[{"$f":"[1]Sheet1!A195","v":11},{"$f":"[1]Sheet1!B195","v":"Хлеб пшеничный "},{"$f":"[1]Sheet1!D195","v":40},{"$f":"[1]Sheet1!E195","v":2.68},{"$f":"[1]Sheet1!F195","v":0.28},{"$f":"[1]Sheet1!G195","v":20.12},{"$f":"[1]Sheet1!H195","v":96}]
["Итого за завтрак",null,570,39.55,10.88,93.22,647.8]
[]
[null,"Рацион: Школьное питание                                                                                                              День: пятница"]
[null,"                                                                                                                                                        Неделя: 2"]
["№ рец.","Наименование блюда",null,"                  Пищевые вещества (г)                                          ",null,null,"Энер.цен"]
[1,2,3,4,5,6,7]
["Завтрак",null,"от 12 до 18 лет","Б","Ж","У"]
[{"$f":"[1]Sheet1!A216","v":{"v":195,"d":"195 "}},{"$f":"[1]Sheet1!B216","v":"Каша \"Артек\" молочная вязкая"},{"$f":"[1]Sheet1!D216","v":200},{"$f":"[1]Sheet1!E216","v":8},{"$f":"[1]Sheet1!F216","v":8},{"$f":"[1]Sheet1!G216","v":{"v":40.89,"d":"41"}},{"$f":"[1]Sheet1!H216","v":267}]
[{"$f":"A109","v":184},"Чай с сахаром",200,{"$f":"D109","v":{"v":0.1,"d":"0"}},0,{"v":9.1,"d":"9"},35]
[{"$f":"[1]Sheet1!A218","v":11},{"$f":"[1]Sheet1!B218","v":"Хлеб пшеничный "},{"$f":"[1]Sheet1!D218","v":40},{"$f":"[1]Sheet1!E218","v":{"v":2.68,"d":"3"}},{"$f":"[1]Sheet1!F218","v":{"v":0.28,"d":"0"}},{"$f":"[1]Sheet1!G218","v":{"v":20.12,"d":"20"}},{"$f":"[1]Sheet1!H218","v":96}]
[null,{"$f":"[1]Sheet1!B149","v":"Йогурт питьевой 3,2% жирности"},100,{"$f":"[1]Sheet1!E149","v":{"v":3.2,"d":"3.20"}},{"$f":"[1]Sheet1!F149","v":2.8},{"$f":"[1]Sheet1!G149","v":4.5},{"$f":"[1]Sheet1!H149","v":{"v":56.4,"d":"56.40"}}]
[{"$f":"[1]Sheet1!A220","v":15},{"$f":"[1]Sheet1!B220","v":"Сыр порционно"},{"$f":"[1]Sheet1!D220","v":10},{"$f":"[1]Sheet1!E220","v":{"v":2.32,"d":"2"}},{"$f":"[1]Sheet1!F220","v":{"v":2.95,"d":"3"}},{"$f":"[1]Sheet1!G220","v":0},{"$f":"[1]Sheet1!H220","v":{"v":36.4,"d":"36"}}]
["Итого за завтрак",null,550,16.2,13.8,74.5,490.4]
[]
[]
[null,"Повар:_____________Суфиянова Г.Р."]