{"text_format":"3","workbook":"xlsx","n_sheets":1,"sheets":["Лист1"],"not_rendered":{"external_links":1},"read":"whole","date_system":"1900"}

{"sheet":"Лист1","index":0,"n_rows":116,"n_cols":7,"rows_kept":116}
[{"$nulls":5},"\"Утверждаю\"____________"]
[{"$nulls":5},"Директор школы: Лукманова А.З."]
[null,"         Десятидневное меню для обучающихся 1-4 классов  (БП и ММС)"]
[]
[null,"Рацион: Школьное питание                                                                              День: понедельник"]
[null,"                                                                                                                         Неделя: 1"]
["№ рец.","Наименование блюда","Масса порции           ","                  Пищевые вещества (г)                                          ",null,null,"Энер.цен"]
[1,2,3,4,5,6,7]
["Завтрак",null,"от7 до 11 лет","Б","Ж","У"]
[{"$f":"[1]Sheet1!A8","v":{"v":137,"d":"137 "}},{"$f":"[1]Sheet1!B8","v":"Макаронные изделия отварные"},{"$f":"[1]Sheet1!D8","v":180},{"$f":"[1]Sheet1!E8","v":6.57},{"$f":"[1]Sheet1!F8","v":5.04},{"$f":"[1]Sheet1!G8","v":40.05},{"$f":"[1]Sheet1!H8","v":{"v":235,"d":"235.00"}}]
[{"$f":"[1]Sheet1!A9","v":{"v":268,"d":"268 "}},{"$f":"[1]Sheet1!B9","v":"Котлеты мясные говядина"},{"$f":"[1]Sheet1!D9","v":90},{"$f":"[1]Sheet1!E9","v":13.25},{"$f":"[1]Sheet1!F9","v":11.86},{"$f":"[1]Sheet1!G9","v":11.37},{"$f":"[1]Sheet1!H9","v":{"v":206,"d":"206.00"}}]
[{"v":184,"d":"184 "},{"$f":"[1]Sheet1!B10","v":"Чай с сахаром"},{"$f":"[1]Sheet1!D10","v":200},{"$f":"[1]Sheet1!E10","v":{"v":0.1,"d":"0.10"}},{"$f":"[1]Sheet1!F10","v":{"v":0,"d":"0.00"}},{"$f":"[1]Sheet1!G10","v":{"v":9.1,"d":"9.10"}},{"$f":"[1]Sheet1!H10","v":{"v":35,"d":"35.00"}}]
[{"$f":"[1]Sheet1!A11","v":11},{"$f":"[1]Sheet1!B11","v":"Хлеб пшеничный "},{"$f":"[1]Sheet1!D11","v":40},{"$f":"[1]Sheet1!E11","v":2.68},{"$f":"[1]Sheet1!F11","v":0.28},{"$f":"[1]Sheet1!G11","v":20.12},{"$f":"[1]Sheet1!H11","v":{"v":96,"d":"96.00"}}]
["Итого за завтрак",null,510,22.6,17.18,80.64,572]
[]
[null,"Рацион: Школьное питание                                                                               День: вторник"]
[null,"                                                                                                                         Неделя: 1"]
["№ рец.","Наименование блюда","Масса порции           ","                  Пищевые вещества (г)                                          ",null,null,"Энер.цен"]
[1,2,3,4,5,6,7]
["Завтрак",null,"от7 до 11 лет","Б","Ж","У"]
[{"v":203,"d":"203 "},{"$f":"[1]Sheet1!B32","v":"Каша молочная \"Дружба\""},{"$f":"[1]Sheet1!D32","v":190},{"$f":"[1]Sheet1!E32","v":{"v":5.9,"d":"6"}},{"$f":"[1]Sheet1!F32","v":{"v":8.09,"d":"8"}},{"$f":"[1]Sheet1!G32","v":{"v":30.8,"d":"31"}},{"$f":"[1]Sheet1!H32","v":{"v":220.8,"d":"221"}}]
[{"v":184,"d":"184 "},{"$f":"[1]Sheet1!B33","v":"Чай с сахаром"},{"$f":"[1]Sheet1!D33","v":200},{"$f":"[1]Sheet1!E33","v":{"v":0.1,"d":"0.10"}},{"$f":"[1]Sheet1!F33","v":{"v":0,"d":"0.0"}},{"$f":"[1]Sheet1!G33","v":{"v":9.1,"d":"9.10"}},{"$f":"[1]Sheet1!H33","v":{"v":35,"d":"35.00"}}]
[{"$f":"[1]Sheet1!A34","v":2},{"$f":"[1]Sheet1!B34","v":"Бутерброд с маслом и сыром"},{"$f":"[1]Sheet1!D34","v":80},{"$f":"[1]Sheet1!E34","v":{"v":8.4,"d":"8"}},{"$f":"[1]Sheet1!F34","v":{"v":8.6,"d":"9"}},{"$f":"[1]Sheet1!G34","v":{"v":26.4,"d":"26"}},{"$f":"[1]Sheet1!H34","v":221}]
[47,"Плоды свежие ",{"$f":"[1]Sheet1!D35","v":100},{"$f":"[1]Sheet1!E35","v":{"v":1.51,"d":"2"}},{"$f":"[1]Sheet1!F35","v":{"v":0.51,"d":"1"}},{"$f":"[1]Sheet1!G35","v":21},{"$f":"[1]Sheet1!H35","v":96}]
["Итого за завтрак",null,570,15.91,17.2,87.3,572.8]
[]
[null,"Рацион: Школьное питание                                                                                День: среда"]
[null,"                                                                                                                          Неделя: 1"]
["№ рец.","Наименование блюда","Масса порции           ","                  Пищевые вещества (г)                                          ",null,null,"Энер.цен"]
[1,2,3,4,5,6,7]
["Завтрак",null,"от7 до 11 лет","Б","Ж","У"]
[{"$f":"[1]Sheet1!A55","v":{"v":113,"d":"113 "}},{"$f":"[1]Sheet1!B55","v":"Каша гречневая рассыпчатая"},{"$f":"[1]Sheet1!D55","v":180},{"$f":"[1]Sheet1!E55","v":9.5},{"$f":"[1]Sheet1!F55","v":7.7},{"$f":"[1]Sheet1!G55","v":38.2},{"$f":"[1]Sheet1!H55","v":237.6}]
[{"$f":"[1]Sheet1!A56","v":54},{"$f":"[1]Sheet1!B56","v":"Рыба, тушеная в томате с овощами"},{"$f":"[1]Sheet1!D56","v":100},{"$f":"[1]Sheet1!E56","v":14.4},{"$f":"[1]Sheet1!F56","v":6.8},{"$f":"[1]Sheet1!G56","v":3.3},{"$f":"[1]Sheet1!H56","v":131}]
[{"$f":"[1]Sheet1!A57","v":310},{"$f":"[1]Sheet1!B57","v":"Компот из смеси сухофруктов"},{"$f":"[1]Sheet1!D57","v":200},{"$f":"[1]Sheet1!E57","v":0.5},{"$f":"[1]Sheet1!F57","v":0.1},{"$f":"[1]Sheet1!G57","v":31.2},{"$f":"[1]Sheet1!H57","v":121}]
[{"$f":"[1]Sheet1!A58","v":{"v":11,"d":"11 "}},{"$f":"[1]Sheet1!B58","v":"Хлеб пшеничный "},{"$f":"[1]Sheet1!D58","v":40},{"$f":"[1]Sheet1!E58","v":2.68},{"$f":"[1]Sheet1!F58","v":0.28},{"$f":"[1]Sheet1!G58","v":20.12},{"$f":"[1]Sheet1!H58","v":96}]
["Итого за завтрак",null,520,27.08,14.88,92.82,585.6]
[]
[null,"Рацион: Школьное питание                                                                                День: четверг"]
[null,"                                                                                                                          Неделя: 1"]
["№ рец.","Наименование блюда","Масса порции           ","                  Пищевые вещества (г)                                          ",null,null,"Энер.цен"]
[1,2,3,4,5,6,7]
["Завтрак",null,"от7 до 11 лет","Б","Ж","У"]
[228,{"$f":"[1]Sheet1!B77","v":"Макаронные изделия с тертым сыром"},{"$f":"[1]Sheet1!D77","v":200},{"$f":"[1]Sheet1!E77","v":{"v":12.3,"d":"12.30"}},{"$f":"[1]Sheet1!F77","v":{"v":14.2,"d":"14.20"}},{"$f":"[1]Sheet1!G77","v":{"v":35.7,"d":"35.70"}},{"$f":"[1]Sheet1!H77","v":{"v":325,"d":"325.00"}}]
[{"$f":"[1]Sheet1!A78","v":264},{"$f":"[1]Sheet1!B78","v":"Какао с молоком"},{"$f":"[1]Sheet1!D78","v":200},{"$f":"[1]Sheet1!E78","v":{"v":3.6,"d":"3.60"}},{"$f":"[1]Sheet1!F78","v":{"v":3.6,"d":"3.60"}},{"$f":"[1]Sheet1!G78","v":{"v":22.8,"d":"22.80"}},{"$f":"[1]Sheet1!H78","v":{"v":135,"d":"135.00"}}]
[{"$f":"[1]Sheet1!A79","v":11},{"$f":"[1]Sheet1!B79","v":"Хлеб пшеничный "},{"$f":"[1]Sheet1!D79","v":40},{"$f":"[1]Sheet1!E79","v":2.68},{"$f":"[1]Sheet1!F79","v":0.28},{"$f":"[1]Sheet1!G79","v":20.12},{"$f":"[1]Sheet1!H79","v":{"v":96,"d":"96.00"}}]
[18,{"$f":"[1]Sheet1!B80","v":"Огурцы свежие в нарезке"},{"$f":"[1]Sheet1!D80","v":60},{"$f":"[1]Sheet1!E80","v":0.48},{"$f":"[1]Sheet1!F80","v":{"v":0.06,"d":"0.1"}},{"$f":"[1]Sheet1!G80","v":{"v":1.68,"d":"1.7"}},{"$f":"[1]Sheet1!H80","v":{"v":7.8,"d":"7.80"}}]
["Итого за завтрак",null,500,19.06,18.18,80.32,563.8]
[]
[null,"Рацион: Школьное питание                                                                                День: пятница"]
[null,"                                                                                                                          Неделя: 1"]
["№ рец.","Наименование блюда","Масса порции           ","                  Пищевые вещества (г)                                          ",null,null,"Энер.цен"]
[1,2,3,4,5,6,7]
["Завтрак",null,"от7 до 11 лет","Б","Ж","У"]
[{"$f":"[1]Sheet1!A100","v":10},{"$f":"[1]Sheet1!B100","v":"Салат из моркови"},{"$f":"[1]Sheet1!D100","v":60},{"$f":"[1]Sheet1!E100","v":{"v":0.7,"d":"0.70"}},{"$f":"[1]Sheet1!F100","v":{"v":2.7,"d":"2.70"}},{"$f":"[1]Sheet1!G100","v":{"v":8.7,"d":"8.70"}},{"$f":"[1]Sheet1!H100","v":{"v":60,"d":"60.00"}}]
[{"$f":"[1]Sheet1!A101","v":90},{"$f":"[1]Sheet1!B101","v":"Плов из мяса птицы"},{"$f":"[1]Sheet1!D101","v":200},{"$f":"[1]Sheet1!E101","v":19.04},{"$f":"[1]Sheet1!F101","v":19.44},{"$f":"[1]Sheet1!G101","v":32.16},{"$f":"[1]Sheet1!H101","v":{"v":383.2,"d":"383.20"}}]
[184,{"$f":"[1]Sheet1!B102","v":"Чай с сахаром"},{"$f":"[1]Sheet1!D102","v":200},{"$f":"[1]Sheet1!E102","v":{"v":0.1,"d":"0.10"}},{"$f":"[1]Sheet1!F102","v":{"v":0,"d":"0.00"}},{"$f":"[1]Sheet1!G102","v":{"v":9.1,"d":"9.10"}},{"$f":"[1]Sheet1!H102","v":{"v":35,"d":"35.00"}}]
[{"$f":"[1]Sheet1!A103","v":11},{"$f":"[1]Sheet1!B103","v":"Хлеб пшеничный "},{"$f":"[1]Sheet1!D103","v":40},{"$f":"[1]Sheet1!E103","v":2.68},{"$f":"[1]Sheet1!F103","v":0.28},{"$f":"[1]Sheet1!G103","v":20.12},{"$f":"[1]Sheet1!H103","v":{"v":96,"d":"96.00"}}]
["Итого за завтрак",null,500,22.52,22.42,70.08,{"$f":"[1]Sheet1!H104","v":{"v":574.2,"d":"574.20"}}]
[]
[null,"Рацион: Школьное питание                                                                                День: понедельник"]
[null,"                                                                                                                          Неделя: 2"]
["№ рец.","Наименование блюда","Масса порции           ","                  Пищевые вещества (г)                                          ",null,null,"Энер.цен"]
[1,2,3,4,5,6,7]
["Завтрак",null,"от7 до 11 лет","Б","Ж","У"]
[{"$f":"[1]Sheet1!A122","v":{"v":118,"d":"118 "}},{"$f":"[1]Sheet1!B122","v":"Каша ячневая рассыпчатая"},{"$f":"[1]Sheet1!D122","v":180},{"$f":"[1]Sheet1!E122","v":5.49},{"$f":"[1]Sheet1!F122","v":{"v":5.4,"d":"5.40"}},{"$f":"[1]Sheet1!G122","v":{"v":31.5,"d":"31.50"}},{"$f":"[1]Sheet1!H122","v":{"v":199,"d":"199.00"}}]
[{"v":268,"d":"268 "},{"$f":"[1]Sheet1!B123","v":"Биточки из мяса курицы"},{"$f":"[1]Sheet1!D123","v":90},{"$f":"[1]Sheet1!E123","v":{"v":10.8,"d":"10.80"}},{"$f":"[1]Sheet1!F123","v":{"v":11.7,"d":"11.70"}},{"$f":"[1]Sheet1!G123","v":{"v":11.7,"d":"11.70"}},{"$f":"[1]Sheet1!H123","v":{"v":179.6,"d":"179.60"}}]
[{"$f":"[1]Sheet1!A124","v":186},{"$f":"[1]Sheet1!B124","v":"Чай с лимоном и сахаром"},{"$f":"[1]Sheet1!D124","v":200},{"$f":"[1]Sheet1!E124","v":{"v":0.2,"d":"0.20"}},{"$f":"[1]Sheet1!F124","v":{"v":0.1,"d":"0.10"}},{"$f":"[1]Sheet1!G124","v":{"v":13.9,"d":"13.90"}},{"$f":"[1]Sheet1!H124","v":{"v":55,"d":"55.00"}}]
[{"$f":"[1]Sheet1!A125","v":{"v":11,"d":"11 "}},{"$f":"[1]Sheet1!B125","v":"Хлеб пшеничный "},{"$f":"[1]Sheet1!D125","v":40},{"$f":"[1]Sheet1!E125","v":2.68},{"$f":"[1]Sheet1!F125","v":0.28},{"$f":"[1]Sheet1!G125","v":20.12},{"$f":"[1]Sheet1!H125","v":{"v":96,"d":"96.00"}}]
["Итого за завтрак",null,{"$f":"[1]Sheet1!D126","v":510},19.17,17.48,77.22,529.6]
[]
[null,"Рацион: Школьное питание                                                                                День: вторник"]
[null,"                                                                                                                          Неделя: 2"]
["№ рец.","Наименование блюда","Масса порции           ","                  Пищевые вещества (г)                                          ",null,null,"Энер.цен"]
[1,2,3,4,5,6,7]
["Завтрак",null,"от7 до 11 лет","Б","Ж","У"]
[{"v":159,"d":"159 "},"Картофель и овощи, тушеные в соусе",{"$f":"[1]Sheet1!D144","v":200},{"$f":"[1]Sheet1!E144","v":{"v":4.1,"d":"4.10"}},{"$f":"[1]Sheet1!F144","v":{"v":11.4,"d":"11.40"}},{"$f":"[1]Sheet1!G144","v":{"v":30.2,"d":"30.20"}},{"$f":"[1]Sheet1!H144","v":{"v":249,"d":"249.00"}}]
[{"v":184,"d":"184 "},"Чай с сахаром",{"$f":"[1]Sheet1!D145","v":200},{"v":0.1,"d":"0.10"},{"v":0,"d":"0.00"},{"v":9.1,"d":"9.10"},{"v":35,"d":"35.00"}]
[11,"Хлеб пшеничный ",{"$f":"[1]Sheet1!D146","v":40},{"$f":"[1]Sheet1!E146","v":2.68},{"$f":"[1]Sheet1!F146","v":0.28},{"$f":"[1]Sheet1!G146","v":20.12},{"$f":"[1]Sheet1!H146","v":{"v":96,"d":"96.00"}}]
[847,"Свежий фрукт",{"$f":"[1]Sheet1!D147","v":100},{"v":0.4,"d":"0.40"},{"v":0.4,"d":"0.40"},{"v":9.8,"d":"9.80"},{"v":47,"d":"47.00"}]
["Итого за завтрак",null,540,7.28,12.08,69.22,427]
[]
[null,"Рацион: Школьное питание                                                                                День: среда"]
[null,"                                                                                                                          Неделя: 2"]
["№ рец.","Наименование блюда","Масса порции           ","                  Пищевые вещества (г)                                          ",null,null,"Энер.цен"]
[1,2,3,4,5,6,7]
["Завтрак",null,"от7 до 11 лет","Б","Ж","У"]
[{"$f":"[1]Sheet1!A168","v":113},{"$f":"[1]Sheet1!B168","v":"Каша гречневая рассыпчатая"},{"$f":"[1]Sheet1!D168","v":180},{"$f":"[1]Sheet1!E168","v":{"v":9.5,"d":"9.50"}},{"$f":"[1]Sheet1!F168","v":{"v":7.7,"d":"7.70"}},{"$f":"[1]Sheet1!G168","v":{"v":38.2,"d":"38.20"}},{"$f":"[1]Sheet1!H168","v":{"v":237.6,"d":"237.60"}}]
[{"v":268,"d":"268 "},"Котлеты мясные говядина",{"$f":"[1]Sheet1!D169","v":90},{"$f":"[1]Sheet1!E169","v":13.25},{"$f":"[1]Sheet1!F169","v":11.86},{"$f":"[1]Sheet1!G169","v":11.37},{"$f":"[1]Sheet1!H169","v":{"v":206,"d":"206.00"}}]
[{"v":200,"d":"200 "},{"$f":"[1]Sheet1!$B$178","v":"Кисель"},{"$f":"[1]Sheet1!D170","v":200},{"$f":"[1]Sheet1!E178","v":{"v":0,"d":"0.00"}},{"$f":"[1]Sheet1!F178","v":{"v":0,"d":"0.00"}},{"$f":"[1]Sheet1!G178","v":{"v":10,"d":"10.00"}},{"$f":"[1]Sheet1!H178","v":{"v":119,"d":"119.00"}}]
[{"$f":"[1]Sheet1!A171","v":11},{"$f":"[1]Sheet1!B171","v":"Хлеб пшеничный "},{"$f":"[1]Sheet1!D171","v":40},{"$f":"[1]Sheet1!E171","v":2.68},{"$f":"[1]Sheet1!F171","v":0.28},{"$f":"[1]Sheet1!G171","v":20.12},{"$f":"[1]Sheet1!H171","v":{"v":96,"d":"96.00"}}]
["Итого за завтрак",null,510,25.55,19.84,79.69,658.6]
[]
[null,"Рацион: Школьное питание                                                                                День: четверг"]
[null,"                                                                                                                          Неделя: 2"]
["№ рец.","Наименование блюда","Масса порции           ","                  Пищевые вещества (г)                                          ",null,null,"Энер.цен"]
[1,2,3,4,5,6,7]
["Завтрак",null,"от7 до 11 лет","Б","Ж","У"]
[{"$f":"[1]Sheet1!A191","v":185},{"$f":"[1]Sheet1!B191","v":"Каша пшеничная рассыпчатая"},{"$f":"[1]Sheet1!D191","v":200},{"$f":"[1]Sheet1!E191","v":{"v":8.8,"d":"8.80"}},{"$f":"[1]Sheet1!F191","v":{"v":5.4,"d":"5.40"}},{"$f":"[1]Sheet1!G191","v":{"v":52.2,"d":"52.20"}},{"$f":"[1]Sheet1!H191","v":{"v":283,"d":"283.00"}}]
[{"$f":"[1]Sheet1!A192","v":{"v":201,"d":"201 "}},{"$f":"[1]Sheet1!B192","v":"Гуляш \"Объедение\" из куриного филе"},{"$f":"[1]Sheet1!D192","v":90},{"$f":"[1]Sheet1!E192","v":14.92},{"$f":"[1]Sheet1!F192","v":3.86},{"$f":"[1]Sheet1!G192","v":{"v":3.6,"d":"3.60"}},{"$f":"[1]Sheet1!H192","v":171.72}]
[{"v":184,"d":"184 "},{"$f":"[1]Sheet1!B193","v":"Чай с сахаром"},{"$f":"[1]Sheet1!D193","v":200},{"$f":"[1]Sheet1!E193","v":{"v":0.1,"d":"0.10"}},{"$f":"[1]Sheet1!F193","v":{"v":0,"d":"0.00"}},{"$f":"[1]Sheet1!G193","v":{"v":9.1,"d":"9.10"}},{"$f":"[1]Sheet1!H193","v":{"v":35,"d":"35.00"}}]
[{"$f":"[1]Sheet1!A194","v":11},{"$f":"[1]Sheet1!B194","v":"Хлеб пшеничный "},{"$f":"[1]Sheet1!D194","v":40},{"$f":"[1]Sheet1!E194","v":2.68},{"$f":"[1]Sheet1!F194","v":0.28},{"$f":"[1]Sheet1!G194","v":20.12},{"$f":"[1]Sheet1!H194","v":{"v":96,"d":"96.00"}}]
["Итого за завтрак",null,530,26.5,9.54,85.02,585.72]
[]
[null,"Рацион: Школьное питание                                                                                День: пятница"]
[null,"                                                                                                                          Неделя: 2"]
["№ рец.","Наименование блюда","Масса порции           ","                  Пищевые вещества (г)                                          ",null,null,"Энер.цен"]
[1,2,3,4,5,6,7]
["Завтрак",null,"от7 до 11 лет","Б","Ж","У"]
[{"$f":"[1]Sheet1!A215","v":{"v":195,"d":"195 "}},"Каша \"Артек\" молочная вязкая","180/5",{"$f":"[1]Sheet1!E215","v":{"v":7.2,"d":"7.20"}},{"$f":"[1]Sheet1!F215","v":{"v":7.2,"d":"7.20"}},{"$f":"[1]Sheet1!G215","v":{"v":36.8,"d":"36.80"}},{"$f":"[1]Sheet1!H215","v":{"v":242,"d":"242.00"}}]
[184,"Чай с сахаром",200,0.1,0,9.1,35]
[{"$f":"[1]Sheet1!A217","v":11},"Хлеб пшеничный",{"$f":"[1]Sheet1!D217","v":40},{"v":2.68,"d":"3"},{"v":0.28,"d":"0"},{"$f":"[1]Sheet1!G217","v":{"v":20.12,"d":"20"}},{"$f":"[1]Sheet1!H217","v":96}]
[{"$f":"[1]Sheet1!A219","v":15},{"$f":"[1]Sheet1!$B$219","v":"Сыр порционно"},10,2.32,2.95,0,36.4]
[null,"Йогурт питьевой 3,2% жирности",100,3.2,2.8,4.5,56.4]
["Итого за завтрак",null,530,15.9,13.23,70.4,465.8]
[]
[null,"Повар: ___________Суфиянова Г.Р."]